BEGIN:VCALENDAR
VERSION:2.0
PRODID:-//eventon.com NONSGML v1.0//EN
CALSCALE:GREGORIAN
METHOD:PUBLISH
BEGIN:VEVENT
UID:69ea0b8b133b1
DTSTAMP:20260423T120739Z
DTSTART:20260426T160000Z
DTEND:20260426T190000Z
LOCATION:
SUMMARY:Paul Rose Trio\,  The Cavern\,  London.
DESCRIPTION:Paul Rose Trio\,  The Cavern\,  London.\nhttps://paulrose.co.uk
 /events/paul-rose-trio-the-cavern-london/
URL:https://paulrose.co.uk/events/paul-rose-trio-the-cavern-london/
END:VEVENT
END:VCALENDAR