BEGIN:VCALENDAR
VERSION:2.0
PRODID:-//eventon.com NONSGML v1.0//EN
CALSCALE:GREGORIAN
METHOD:PUBLISH
BEGIN:VEVENT
UID:69ea0bd3977dd
DTSTAMP:20260423T120851Z
DTSTART:20260630T200000Z
DTEND:20260630T220000Z
LOCATION:
SUMMARY:Paul Rose Trio\,  The Den\,  Epping
DESCRIPTION:Paul Rose Trio\,  The Den\,  Epping\nhttps://paulrose.co.uk/eve
 nts/paul-rose-trio-the-den-epping/
URL:https://paulrose.co.uk/events/paul-rose-trio-the-den-epping/
END:VEVENT
END:VCALENDAR