BEGIN:VCALENDAR
VERSION:2.0
PRODID:-//eventon.com NONSGML v1.0//EN
CALSCALE:GREGORIAN
METHOD:PUBLISH
BEGIN:VEVENT
UID:69ea1c83e3bc0
DTSTAMP:20260423T132003Z
DTSTART:20260604T200000Z
DTEND:20260604T230000Z
LOCATION:
SUMMARY:Paul Rose House Band\,  Mill Tavern\,  Hebburn
DESCRIPTION:Paul Rose House Band\,  Mill Tavern\,  Hebburn\nhttps://paulros
 e.co.uk/events/paul-rose-house-band-mill-tavern-hebburn/
URL:https://paulrose.co.uk/events/paul-rose-house-band-mill-tavern-hebburn/
END:VEVENT
END:VCALENDAR