BEGIN:VCALENDAR
VERSION:2.0
PRODID:-//eventon.com NONSGML v1.0//EN
CALSCALE:GREGORIAN
METHOD:PUBLISH
BEGIN:VEVENT
UID:69ea1cb7cfdf7
DTSTAMP:20260423T132055Z
DTSTART:20260825T190000Z
DTEND:20260825T230000Z
LOCATION:
SUMMARY:Guitar Heads\,  Half Moon\,  Putney
DESCRIPTION:Guitar Heads\,  Half Moon\,  Putney\nhttps://paulrose.co.uk/eve
 nts/guitar-heads-half-moon-putney/
URL:https://paulrose.co.uk/events/guitar-heads-half-moon-putney/
END:VEVENT
END:VCALENDAR