BEGIN:VCALENDAR
VERSION:2.0
PRODID:-//eventon.com NONSGML v1.0//EN
CALSCALE:GREGORIAN
METHOD:PUBLISH
BEGIN:VEVENT
UID:69ea0b91c21fe
DTSTAMP:20260423T120745Z
DTSTART:20260515T200000Z
DTEND:20260515T230000Z
LOCATION:
SUMMARY:Paul Rose Trio\,  Chelmsford Social Club.
DESCRIPTION:Paul Rose Trio\,  Chelmsford Social Club.\nhttps://paulrose.co.
 uk/events/paul-rose-trio-chelmsford/
URL:https://paulrose.co.uk/events/paul-rose-trio-chelmsford/
END:VEVENT
END:VCALENDAR