BEGIN:VCALENDAR
VERSION:2.0
PRODID:-//eventon.com NONSGML v1.0//EN
CALSCALE:GREGORIAN
METHOD:PUBLISH
BEGIN:VEVENT
UID:69ea0b8c12fad
DTSTAMP:20260423T120740Z
DTSTART:20260830T170000Z
DTEND:20260830T200000Z
LOCATION:
SUMMARY:Guitar Heads\,  Whitehaven
DESCRIPTION:Guitar Heads\,  Whitehaven\nhttps://paulrose.co.uk/events/guita
 r-heads-whitehaven/
URL:https://paulrose.co.uk/events/guitar-heads-whitehaven/
END:VEVENT
END:VCALENDAR