BEGIN:VCALENDAR
VERSION:2.0
PRODID:-//eventon.com NONSGML v1.0//EN
CALSCALE:GREGORIAN
METHOD:PUBLISH
BEGIN:VEVENT
UID:69ea0b8aca0e5
DTSTAMP:20260423T120738Z
DTSTART:20260828T200000Z
DTEND:20260828T230000Z
LOCATION:
SUMMARY:Guitar Heads\,  Eleven\,  Stoke-on-Trent
DESCRIPTION:Guitar Heads\,  Eleven\,  Stoke-on-Trent\nhttps://paulrose.co.u
 k/events/guitar-heads-eleven-stoke/
URL:https://paulrose.co.uk/events/guitar-heads-eleven-stoke/
END:VEVENT
END:VCALENDAR