BEGIN:VCALENDAR
VERSION:2.0
PRODID:-//eventon.com NONSGML v1.0//EN
CALSCALE:GREGORIAN
METHOD:PUBLISH
BEGIN:VEVENT
UID:69ea1c7696091
DTSTAMP:20260423T131950Z
DTSTART:20260827T200000Z
DTEND:20260827T230000Z
LOCATION:
SUMMARY:Guitar Heads\,  Llandudno\,  Wales
DESCRIPTION:Guitar Heads\,  Llandudno\,  Wales\nhttps://paulrose.co.uk/even
 ts/guitar-heads-llandudno-wales/
URL:https://paulrose.co.uk/events/guitar-heads-llandudno-wales/
END:VEVENT
END:VCALENDAR