BEGIN:VCALENDAR
VERSION:2.0
PRODID:-//eventon.com NONSGML v1.0//EN
CALSCALE:GREGORIAN
METHOD:PUBLISH
BEGIN:VEVENT
UID:69ea1d9374f1d
DTSTAMP:20260423T132435Z
DTSTART:20260828T160000Z
DTEND:20260828T180000Z
LOCATION:
SUMMARY:Paul Rose Trio\,  Congleton Jazz and Blues Fest
DESCRIPTION:Paul Rose Trio\,  Congleton Jazz and Blues Fest\nhttps://paulro
 se.co.uk/events/paul-rose-trio-congleton-jazz-and-blues-fest/
URL:https://paulrose.co.uk/events/paul-rose-trio-congleton-jazz-and-blues-fest/
END:VEVENT
END:VCALENDAR