BEGIN:VCALENDAR
VERSION:2.0
PRODID:-//eventon.com NONSGML v1.0//EN
CALSCALE:GREGORIAN
METHOD:PUBLISH
BEGIN:VEVENT
UID:69ea1d03625ed
DTSTAMP:20260423T132211Z
DTSTART:20260514T200000Z
DTEND:20260514T230000Z
LOCATION:
SUMMARY:Paul Rose (special guest)\,  Dartford\,  Cotton Club
DESCRIPTION:Paul Rose (special guest)\,  Dartford\,  Cotton Club\nhttps://p
 aulrose.co.uk/events/paul-rose-special-guest-cotton-club/
URL:https://paulrose.co.uk/events/paul-rose-special-guest-cotton-club/
END:VEVENT
END:VCALENDAR