BEGIN:VCALENDAR
VERSION:2.0
PRODID:-//eventon.com NONSGML v1.0//EN
CALSCALE:GREGORIAN
METHOD:PUBLISH
BEGIN:VEVENT
UID:69ea0b9147dad
DTSTAMP:20260423T120745Z
DTSTART:20260723T203000Z
DTEND:20260723T230000Z
LOCATION:
SUMMARY:Paul Rose Trio\,  Artisan Tap\,  Newcastle Under Lime
DESCRIPTION:Paul Rose Trio\,  Artisan Tap\,  Newcastle Under Lime\nhttps://
 paulrose.co.uk/events/paul-rose-trio-artisan-tap-newcastle-under-lime/
URL:https://paulrose.co.uk/events/paul-rose-trio-artisan-tap-newcastle-under-lime/
END:VEVENT
END:VCALENDAR