BEGIN:VCALENDAR
VERSION:2.0
PRODID:-//eventon.com NONSGML v1.0//EN
CALSCALE:GREGORIAN
METHOD:PUBLISH
BEGIN:VEVENT
UID:69ea1c12d8bbc
DTSTAMP:20260423T131810Z
DTSTART:20260731T160000Z
DTEND:20260731T180000Z
LOCATION:
SUMMARY:Paul Rose Trio\,  Cambridge Rock Festival.
DESCRIPTION:Paul Rose Trio\,  Cambridge Rock Festival.\nhttps://paulrose.co
 .uk/events/paul-rose-trio-cambridge-rock-festival/
URL:https://paulrose.co.uk/events/paul-rose-trio-cambridge-rock-festival/
END:VEVENT
END:VCALENDAR