BEGIN:VCALENDAR
VERSION:2.0
PRODID:-//eventon.com NONSGML v1.0//EN
CALSCALE:GREGORIAN
METHOD:PUBLISH
BEGIN:VEVENT
UID:69ea1c16d3b32
DTSTAMP:20260423T131814Z
DTSTART:20260904T160000Z
DTEND:20260904T180000Z
LOCATION:
SUMMARY:The Paul Rose Band\,  The Continental\,  Preston
DESCRIPTION:The Paul Rose Band\,  The Continental\,  Preston\nhttps://paulr
 ose.co.uk/events/the-paul-rose-band-the-continental-preston/
URL:https://paulrose.co.uk/events/the-paul-rose-band-the-continental-preston/
END:VEVENT
END:VCALENDAR