BEGIN:VCALENDAR
VERSION:2.0
PRODID:-//eventon.com NONSGML v1.0//EN
CALSCALE:GREGORIAN
METHOD:PUBLISH
BEGIN:VEVENT
UID:69ea0b9248207
DTSTAMP:20260423T120746Z
DTSTART:20260925T200000Z
DTEND:20260925T230000Z
LOCATION:
SUMMARY:The Paul Rose Trio\,  Jazz & Blues\,  Edinburgh
DESCRIPTION:The Paul Rose Trio\,  Jazz & Blues\,  Edinburgh\nhttps://paulro
 se.co.uk/events/the-paul-rose-trio-jazz-blues-edinburgh/
URL:https://paulrose.co.uk/events/the-paul-rose-trio-jazz-blues-edinburgh/
END:VEVENT
END:VCALENDAR