BEGIN:VCALENDAR
VERSION:2.0
PRODID:-//eventon.com NONSGML v1.0//EN
CALSCALE:GREGORIAN
METHOD:PUBLISH
BEGIN:VEVENT
UID:69ecb5fb1637d
DTSTAMP:20260425T123923Z
DTSTART:20261217T200000Z
DTEND:20261217T230000Z
LOCATION:
SUMMARY:Guitar Heads\,  Back Stage\,  Kinross
DESCRIPTION:Guitar Heads\,  Back Stage\,  Kinross\nhttps://paulrose.co.uk/e
 vents/guitar-heads-back-stage-kinross/
URL:https://paulrose.co.uk/events/guitar-heads-back-stage-kinross/
END:VEVENT
END:VCALENDAR