BEGIN:VCALENDAR
VERSION:2.0
PRODID:-//eventon.com NONSGML v1.0//EN
CALSCALE:GREGORIAN
METHOD:PUBLISH
BEGIN:VEVENT
UID:69eb7e78594f8
DTSTAMP:20260424T143016Z
DTSTART:20261211T200000Z
DTEND:20261211T230000Z
LOCATION:
SUMMARY:Guitar Heads\,  Chelmsford Social Club.
DESCRIPTION:Guitar Heads\,  Chelmsford Social Club.\nhttps://paulrose.co.uk
 /events/guitar-heads-chelmsford-social-club/
URL:https://paulrose.co.uk/events/guitar-heads-chelmsford-social-club/
END:VEVENT
END:VCALENDAR