BEGIN:VCALENDAR
VERSION:2.0
PRODID:-//eventon.com NONSGML v1.0//EN
CALSCALE:GREGORIAN
METHOD:PUBLISH
BEGIN:VEVENT
UID:69ea1c16c9fe5
DTSTAMP:20260423T131814Z
DTSTART:20260620T190000Z
DTEND:20260620T230000Z
LOCATION:
SUMMARY:Guitar Heads at Steelies\,  Hartlepool
DESCRIPTION:Guitar Heads at Steelies\,  Hartlepool\nhttps://paulrose.co.uk/
 events/guitar-heads-at-steelies-hartlepool/
URL:https://paulrose.co.uk/events/guitar-heads-at-steelies-hartlepool/
END:VEVENT
END:VCALENDAR