BEGIN:VCALENDAR
VERSION:2.0
PRODID:-//eventon.com NONSGML v1.0//EN
CALSCALE:GREGORIAN
METHOD:PUBLISH
BEGIN:VEVENT
UID:69ea0b8b9848f
DTSTAMP:20260423T120739Z
DTSTART:20260618T190000Z
DTEND:20260618T230000Z
LOCATION:
SUMMARY:Guitar Heads at Anarchy Brewery\,  Newcastle
DESCRIPTION:Guitar Heads at Anarchy Brewery\,  Newcastle\nhttps://paulrose.
 co.uk/events/guitar-heads-at-anarchy-brew-newcastle/
URL:https://paulrose.co.uk/events/guitar-heads-at-anarchy-brew-newcastle/
END:VEVENT
END:VCALENDAR