BEGIN:VCALENDAR
VERSION:2.0
PRODID:-//eventon.com NONSGML v1.0//EN
CALSCALE:GREGORIAN
METHOD:PUBLISH
BEGIN:VEVENT
UID:69ea0b8607f23
DTSTAMP:20260423T120734Z
DTSTART:20260619T190000Z
DTEND:20260619T230000Z
LOCATION:
SUMMARY:Guitar Heads at Birdwell Venue\,  Barnsley
DESCRIPTION:Guitar Heads at Birdwell Venue\,  Barnsley\nhttps://paulrose.co
 .uk/events/guitar-heads-at-birdwell-venue-barnsley/
URL:https://paulrose.co.uk/events/guitar-heads-at-birdwell-venue-barnsley/
END:VEVENT
END:VCALENDAR